BEGIN:VCALENDAR
VERSION:2.0
PRODID:-//NADI Taman Bukit Inai - ECPv6.15.13.1//NONSGML v1.0//EN
CALSCALE:GREGORIAN
METHOD:PUBLISH
X-WR-CALNAME:NADI Taman Bukit Inai
X-ORIGINAL-URL:https://tamanbukitinai.nadi.my
X-WR-CALDESC:Events for NADI Taman Bukit Inai
REFRESH-INTERVAL;VALUE=DURATION:PT1H
X-Robots-Tag:noindex
X-PUBLISHED-TTL:PT1H
BEGIN:VTIMEZONE
TZID:Asia/Kuala_Lumpur
BEGIN:STANDARD
TZOFFSETFROM:+0800
TZOFFSETTO:+0800
TZNAME:+08
DTSTART:20250101T000000
END:STANDARD
END:VTIMEZONE
BEGIN:VEVENT
DTSTART;VALUE=DATE:20260406
DTEND;VALUE=DATE:20260413
DTSTAMP:20260420T101501
CREATED:20260408T044118Z
LAST-MODIFIED:20260408T044118Z
UID:9576-1775433600-1776038399@tamanbukitinai.nadi.my
SUMMARY:DILEA - VOD REVISION VIDEO 36
DESCRIPTION:
URL:https://tamanbukitinai.nadi.my/event/dilea-vod-revision-video-36/
END:VEVENT
BEGIN:VEVENT
DTSTART;VALUE=DATE:20260406
DTEND;VALUE=DATE:20260413
DTSTAMP:20260420T101501
CREATED:20260408T044149Z
LAST-MODIFIED:20260408T044149Z
UID:9578-1775433600-1776038399@tamanbukitinai.nadi.my
SUMMARY:DILE - ENGLISH PROFIENCY 28
DESCRIPTION:
URL:https://tamanbukitinai.nadi.my/event/dile-english-profiency-28/
END:VEVENT
BEGIN:VEVENT
DTSTART;TZID=Asia/Kuala_Lumpur:20260407T103000
DTEND;TZID=Asia/Kuala_Lumpur:20260407T113000
DTSTAMP:20260420T101501
CREATED:20260408T044458Z
LAST-MODIFIED:20260408T044458Z
UID:9588-1775557800-1775561400@tamanbukitinai.nadi.my
SUMMARY:WELLBEING - WEBINAR SARINGAN KESIHATAN
DESCRIPTION:
URL:https://tamanbukitinai.nadi.my/event/wellbeing-webinar-saringan-kesihatan/
END:VEVENT
BEGIN:VEVENT
DTSTART;TZID=Asia/Kuala_Lumpur:20260407T153000
DTEND;TZID=Asia/Kuala_Lumpur:20260407T163000
DTSTAMP:20260420T101501
CREATED:20260408T044426Z
LAST-MODIFIED:20260408T044426Z
UID:9586-1775575800-1775579400@tamanbukitinai.nadi.my
SUMMARY:DILEA - OPEN TUITION BAHASA INGGERIS
DESCRIPTION:
URL:https://tamanbukitinai.nadi.my/event/dilea-open-tuition-bahasa-inggeris-9/
END:VEVENT
END:VCALENDAR