BEGIN:VCALENDAR
VERSION:2.0
PRODID:-//NADI Taman Bukit Inai - ECPv6.15.13.1//NONSGML v1.0//EN
CALSCALE:GREGORIAN
METHOD:PUBLISH
X-WR-CALNAME:NADI Taman Bukit Inai
X-ORIGINAL-URL:https://tamanbukitinai.nadi.my
X-WR-CALDESC:Events for NADI Taman Bukit Inai
REFRESH-INTERVAL;VALUE=DURATION:PT1H
X-Robots-Tag:noindex
X-PUBLISHED-TTL:PT1H
BEGIN:VTIMEZONE
TZID:Asia/Kuala_Lumpur
BEGIN:STANDARD
TZOFFSETFROM:+0800
TZOFFSETTO:+0800
TZNAME:+08
DTSTART:20250101T000000
END:STANDARD
END:VTIMEZONE
BEGIN:VEVENT
DTSTART;VALUE=DATE:20260316
DTEND;VALUE=DATE:20260319
DTSTAMP:20260420T103608
CREATED:20260318T035012Z
LAST-MODIFIED:20260318T035012Z
UID:9493-1773619200-1773878399@tamanbukitinai.nadi.my
SUMMARY:DILEA - VOD REVISION VIDEO 33
DESCRIPTION:
URL:https://tamanbukitinai.nadi.my/event/dilea-vod-revision-video-33/
END:VEVENT
BEGIN:VEVENT
DTSTART;VALUE=DATE:20260316
DTEND;VALUE=DATE:20260319
DTSTAMP:20260420T103608
CREATED:20260318T035724Z
LAST-MODIFIED:20260318T035724Z
UID:9497-1773619200-1773878399@tamanbukitinai.nadi.my
SUMMARY:CYBERSECURITY - WEBINAR ON DEMAND
DESCRIPTION:
URL:https://tamanbukitinai.nadi.my/event/cybersecurity-webinar-on-demand-2/
END:VEVENT
BEGIN:VEVENT
DTSTART;TZID=Asia/Kuala_Lumpur:20260317T103000
DTEND;TZID=Asia/Kuala_Lumpur:20260317T113000
DTSTAMP:20260420T103608
CREATED:20260318T035858Z
LAST-MODIFIED:20260318T035858Z
UID:9499-1773743400-1773747000@tamanbukitinai.nadi.my
SUMMARY:WELLBEING - WEBINAR RAYA TANPA DRAMA
DESCRIPTION:
URL:https://tamanbukitinai.nadi.my/event/wellbeing-webinar-raya-tanpa-drama/
END:VEVENT
END:VCALENDAR