BEGIN:VCALENDAR
VERSION:2.0
PRODID:-//NADI Taman Bukit Inai - ECPv6.15.13.1//NONSGML v1.0//EN
CALSCALE:GREGORIAN
METHOD:PUBLISH
X-WR-CALNAME:NADI Taman Bukit Inai
X-ORIGINAL-URL:https://tamanbukitinai.nadi.my
X-WR-CALDESC:Events for NADI Taman Bukit Inai
REFRESH-INTERVAL;VALUE=DURATION:PT1H
X-Robots-Tag:noindex
X-PUBLISHED-TTL:PT1H
BEGIN:VTIMEZONE
TZID:Asia/Kuala_Lumpur
BEGIN:STANDARD
TZOFFSETFROM:+0800
TZOFFSETTO:+0800
TZNAME:+08
DTSTART:20250101T000000
END:STANDARD
END:VTIMEZONE
BEGIN:VEVENT
DTSTART;VALUE=DATE:20260309
DTEND;VALUE=DATE:20260314
DTSTAMP:20260420T085829
CREATED:20260315T040839Z
LAST-MODIFIED:20260315T040839Z
UID:9439-1773014400-1773446399@tamanbukitinai.nadi.my
SUMMARY:CYBERSECURITY - WEBINAR ON DEMAND
DESCRIPTION:
URL:https://tamanbukitinai.nadi.my/event/cybersecurity-webinar-on-demand/
END:VEVENT
BEGIN:VEVENT
DTSTART;VALUE=DATE:20260309
DTEND;VALUE=DATE:20260316
DTSTAMP:20260420T085829
CREATED:20260315T045407Z
LAST-MODIFIED:20260315T045407Z
UID:9447-1773014400-1773619199@tamanbukitinai.nadi.my
SUMMARY:DILEA - VOD REVISION VIDEO 32
DESCRIPTION:
URL:https://tamanbukitinai.nadi.my/event/dilea-vod-revision-video-32/
END:VEVENT
BEGIN:VEVENT
DTSTART;VALUE=DATE:20260312
DTEND;VALUE=DATE:20260313
DTSTAMP:20260420T085829
CREATED:20260315T045713Z
LAST-MODIFIED:20260315T045713Z
UID:9454-1773273600-1773359999@tamanbukitinai.nadi.my
SUMMARY:WELLBEING - PODCAST : BUKAN DIET EKSTREM PART 2
DESCRIPTION:
URL:https://tamanbukitinai.nadi.my/event/wellbeing-podcast-bukan-diet-ekstrem-part-2/
END:VEVENT
END:VCALENDAR