BEGIN:VCALENDAR
VERSION:2.0
PRODID:-//NADI Taman Bukit Inai - ECPv6.15.13.1//NONSGML v1.0//EN
CALSCALE:GREGORIAN
METHOD:PUBLISH
X-WR-CALNAME:NADI Taman Bukit Inai
X-ORIGINAL-URL:https://tamanbukitinai.nadi.my
X-WR-CALDESC:Events for NADI Taman Bukit Inai
REFRESH-INTERVAL;VALUE=DURATION:PT1H
X-Robots-Tag:noindex
X-PUBLISHED-TTL:PT1H
BEGIN:VTIMEZONE
TZID:UTC
BEGIN:STANDARD
TZOFFSETFROM:+0000
TZOFFSETTO:+0000
TZNAME:UTC
DTSTART:20250101T000000
END:STANDARD
END:VTIMEZONE
BEGIN:VEVENT
DTSTART;VALUE=DATE:20260223
DTEND;VALUE=DATE:20260301
DTSTAMP:20260420T080904
CREATED:20260224T181647Z
LAST-MODIFIED:20260224T181647Z
UID:9315-1771804800-1772323199@tamanbukitinai.nadi.my
SUMMARY:DILEA - ENGLISH PROFIENCY 25
DESCRIPTION:
URL:https://tamanbukitinai.nadi.my/event/dilea-english-profiency-25/
END:VEVENT
BEGIN:VEVENT
DTSTART;VALUE=DATE:20260223
DTEND;VALUE=DATE:20260302
DTSTAMP:20260420T080904
CREATED:20260224T181546Z
LAST-MODIFIED:20260224T181546Z
UID:9313-1771804800-1772409599@tamanbukitinai.nadi.my
SUMMARY:DILEA - VOD REVISION VIDEO 30
DESCRIPTION:
URL:https://tamanbukitinai.nadi.my/event/dilea-vod-revision-video-30/
END:VEVENT
BEGIN:VEVENT
DTSTART;VALUE=DATE:20260227
DTEND;VALUE=DATE:20260302
DTSTAMP:20260420T080904
CREATED:20260224T232718Z
LAST-MODIFIED:20260224T232718Z
UID:9354-1772150400-1772409599@tamanbukitinai.nadi.my
SUMMARY:E-SUKAN : KELAS KESEDARAN
DESCRIPTION:
URL:https://tamanbukitinai.nadi.my/event/e-sukan-kelas-kesedaran/
END:VEVENT
BEGIN:VEVENT
DTSTART;VALUE=DATE:20260228
DTEND;VALUE=DATE:20260301
DTSTAMP:20260420T080904
CREATED:20260224T233519Z
LAST-MODIFIED:20260224T233519Z
UID:9368-1772236800-1772323199@tamanbukitinai.nadi.my
SUMMARY:WELLBEING - PHY-WELL : CONDITIONING TAEKWANDO
DESCRIPTION:
URL:https://tamanbukitinai.nadi.my/event/wellbeing-phy-well-conditioning-taekwando/
END:VEVENT
BEGIN:VEVENT
DTSTART;VALUE=DATE:20260228
DTEND;VALUE=DATE:20260301
DTSTAMP:20260420T080904
CREATED:20260224T233557Z
LAST-MODIFIED:20260224T233557Z
UID:9370-1772236800-1772323199@tamanbukitinai.nadi.my
SUMMARY:WELLBEING - RAMADAN : EXERCISE : TELEKUNG FIT
DESCRIPTION:
URL:https://tamanbukitinai.nadi.my/event/wellbeing-ramadan-exercise-telekung-fit/
END:VEVENT
BEGIN:VEVENT
DTSTART;TZID=UTC:20260228T090000
DTEND;TZID=UTC:20260228T130000
DTSTAMP:20260420T080904
CREATED:20260224T233331Z
LAST-MODIFIED:20260224T233331Z
UID:9364-1772269200-1772283600@tamanbukitinai.nadi.my
SUMMARY:E-SUKAN - WEBINAR WORLD BUILDING
DESCRIPTION:
URL:https://tamanbukitinai.nadi.my/event/e-sukan-webinar-world-building/
END:VEVENT
BEGIN:VEVENT
DTSTART;TZID=UTC:20260228T093000
DTEND;TZID=UTC:20260228T103000
DTSTAMP:20260420T080904
CREATED:20260224T233437Z
LAST-MODIFIED:20260224T233437Z
UID:9366-1772271000-1772274600@tamanbukitinai.nadi.my
SUMMARY:MAHIR - TADARUS QURAN @ NADI
DESCRIPTION:
URL:https://tamanbukitinai.nadi.my/event/mahir-tadarus-quran-nadi/
END:VEVENT
BEGIN:VEVENT
DTSTART;TZID=UTC:20260228T100000
DTEND;TZID=UTC:20260228T113000
DTSTAMP:20260420T080904
CREATED:20260224T233216Z
LAST-MODIFIED:20260224T233216Z
UID:9362-1772272800-1772278200@tamanbukitinai.nadi.my
SUMMARY:KIDVENTURE - WEBINAR : MARKETING 2
DESCRIPTION:
URL:https://tamanbukitinai.nadi.my/event/kidventure-webinar-marketing-2/
END:VEVENT
END:VCALENDAR