BEGIN:VCALENDAR
VERSION:2.0
PRODID:-//NADI Taman Bukit Inai - ECPv6.15.13.1//NONSGML v1.0//EN
CALSCALE:GREGORIAN
METHOD:PUBLISH
X-WR-CALNAME:NADI Taman Bukit Inai
X-ORIGINAL-URL:https://tamanbukitinai.nadi.my
X-WR-CALDESC:Events for NADI Taman Bukit Inai
REFRESH-INTERVAL;VALUE=DURATION:PT1H
X-Robots-Tag:noindex
X-PUBLISHED-TTL:PT1H
BEGIN:VTIMEZONE
TZID:UTC
BEGIN:STANDARD
TZOFFSETFROM:+0000
TZOFFSETTO:+0000
TZNAME:UTC
DTSTART:20250101T000000
END:STANDARD
END:VTIMEZONE
BEGIN:VEVENT
DTSTART;VALUE=DATE:20260213
DTEND;VALUE=DATE:20260223
DTSTAMP:20260420T085750
CREATED:20260213T211527Z
LAST-MODIFIED:20260213T211527Z
UID:9231-1770940800-1771804799@tamanbukitinai.nadi.my
SUMMARY:Awareness: “Cybergrooming atau cinta?” (wajib alert)
DESCRIPTION:
URL:https://tamanbukitinai.nadi.my/event/awareness-cybergrooming-atau-cinta-wajib-alert/
END:VEVENT
BEGIN:VEVENT
DTSTART;VALUE=DATE:20260216
DTEND;VALUE=DATE:20260223
DTSTAMP:20260420T085750
CREATED:20260218T192019Z
LAST-MODIFIED:20260218T192019Z
UID:9273-1771200000-1771804799@tamanbukitinai.nadi.my
SUMMARY:DILEA - VOD REVISION VIDEO 29
DESCRIPTION:
URL:https://tamanbukitinai.nadi.my/event/dilea-vod-revision-video-29/
END:VEVENT
BEGIN:VEVENT
DTSTART;VALUE=DATE:20260220
DTEND;VALUE=DATE:20260223
DTSTAMP:20260420T085750
CREATED:20260218T192301Z
LAST-MODIFIED:20260218T192301Z
UID:9281-1771545600-1771804799@tamanbukitinai.nadi.my
SUMMARY:E-SPORTS - AWARENESS CLASS
DESCRIPTION:
URL:https://tamanbukitinai.nadi.my/event/e-sports-awareness-class-4/
END:VEVENT
BEGIN:VEVENT
DTSTART;VALUE=DATE:20260221
DTEND;VALUE=DATE:20260222
DTSTAMP:20260420T085750
CREATED:20260218T192415Z
LAST-MODIFIED:20260218T192415Z
UID:9285-1771632000-1771718399@tamanbukitinai.nadi.my
SUMMARY:WELLBEING - PHY-WELL : DRILL SELF DEFENSE TAEKWANDO
DESCRIPTION:
URL:https://tamanbukitinai.nadi.my/event/wellbeing-phy-well-drill-self-defense-taekwando/
END:VEVENT
BEGIN:VEVENT
DTSTART;TZID=UTC:20260221T100000
DTEND;TZID=UTC:20260221T113000
DTSTAMP:20260420T085750
CREATED:20260218T192453Z
LAST-MODIFIED:20260218T192453Z
UID:9287-1771668000-1771673400@tamanbukitinai.nadi.my
SUMMARY:KIDVENTURE - WEBINAR : MARKETING 1
DESCRIPTION:
URL:https://tamanbukitinai.nadi.my/event/kidventure-webinar-marketing-1/
END:VEVENT
BEGIN:VEVENT
DTSTART;TZID=UTC:20260221T143000
DTEND;TZID=UTC:20260221T163000
DTSTAMP:20260420T085750
CREATED:20260218T192526Z
LAST-MODIFIED:20260218T192526Z
UID:9289-1771684200-1771691400@tamanbukitinai.nadi.my
SUMMARY:DILEA - WEBINAR BERKALA SEJARAH EDISI 4
DESCRIPTION:
URL:https://tamanbukitinai.nadi.my/event/dilea-webinar-berkala-sejarah-edisi-4/
END:VEVENT
END:VCALENDAR