BEGIN:VCALENDAR
VERSION:2.0
PRODID:-//NADI Taman Bukit Inai - ECPv6.15.13.1//NONSGML v1.0//EN
CALSCALE:GREGORIAN
METHOD:PUBLISH
X-ORIGINAL-URL:https://tamanbukitinai.nadi.my
X-WR-CALDESC:Events for NADI Taman Bukit Inai
REFRESH-INTERVAL;VALUE=DURATION:PT1H
X-Robots-Tag:noindex
X-PUBLISHED-TTL:PT1H
BEGIN:VTIMEZONE
TZID:UTC
BEGIN:STANDARD
TZOFFSETFROM:+0000
TZOFFSETTO:+0000
TZNAME:UTC
DTSTART:20250101T000000
END:STANDARD
END:VTIMEZONE
BEGIN:VEVENT
DTSTART;VALUE=DATE:20260202
DTEND;VALUE=DATE:20260209
DTSTAMP:20260420T040159
CREATED:20260204T173349Z
LAST-MODIFIED:20260204T173349Z
UID:9163-1769990400-1770595199@tamanbukitinai.nadi.my
SUMMARY:DILEA - VIDEO ON DEMAND - REVISION VIDEO SESI 27
DESCRIPTION:
URL:https://tamanbukitinai.nadi.my/event/dilea-video-on-demand-revision-video-sesi-27/
END:VEVENT
BEGIN:VEVENT
DTSTART;VALUE=DATE:20260203
DTEND;VALUE=DATE:20260207
DTSTAMP:20260420T040159
CREATED:20260204T180137Z
LAST-MODIFIED:20260204T180137Z
UID:9173-1770076800-1770422399@tamanbukitinai.nadi.my
SUMMARY:CYBERSECURITY -  Webinar On-Demand 29 Januari 2026
DESCRIPTION:
URL:https://tamanbukitinai.nadi.my/event/cybersecurity-webinar-on-demand-29-januari-2026/
END:VEVENT
BEGIN:VEVENT
DTSTART;VALUE=DATE:20260204
DTEND;VALUE=DATE:20260205
DTSTAMP:20260420T040159
CREATED:20260204T173612Z
LAST-MODIFIED:20260204T173612Z
UID:9165-1770163200-1770249599@tamanbukitinai.nadi.my
SUMMARY:WELLBEING - Bukan Kanser Biasa… Tapi Ini Yang Ramai Malaysia Kena
DESCRIPTION:
URL:https://tamanbukitinai.nadi.my/event/wellbeing-bukan-kanser-biasa-tapi-ini-yang-ramai-malaysia-kena/
END:VEVENT
BEGIN:VEVENT
DTSTART;TZID=UTC:20260204T093000
DTEND;TZID=UTC:20260204T110000
DTSTAMP:20260420T040159
CREATED:20260204T192819Z
LAST-MODIFIED:20260204T192819Z
UID:9178-1770197400-1770202800@tamanbukitinai.nadi.my
SUMMARY:MAHIR - MASAK (MINGGU 4)
DESCRIPTION:
URL:https://tamanbukitinai.nadi.my/event/mahir-masak-minggu-4/
END:VEVENT
BEGIN:VEVENT
DTSTART;TZID=UTC:20260204T150000
DTEND;TZID=UTC:20260204T163000
DTSTAMP:20260420T040159
CREATED:20260204T192858Z
LAST-MODIFIED:20260204T192858Z
UID:9180-1770217200-1770222600@tamanbukitinai.nadi.my
SUMMARY:MAHIR - JAHIT (MINGGU 4)
DESCRIPTION:
URL:https://tamanbukitinai.nadi.my/event/mahir-jahit-minggu-4/
END:VEVENT
END:VCALENDAR