BEGIN:VCALENDAR
VERSION:2.0
PRODID:-//NADI Taman Bukit Inai - ECPv6.15.13.1//NONSGML v1.0//EN
CALSCALE:GREGORIAN
METHOD:PUBLISH
X-WR-CALNAME:NADI Taman Bukit Inai
X-ORIGINAL-URL:https://tamanbukitinai.nadi.my
X-WR-CALDESC:Events for NADI Taman Bukit Inai
REFRESH-INTERVAL;VALUE=DURATION:PT1H
X-Robots-Tag:noindex
X-PUBLISHED-TTL:PT1H
BEGIN:VTIMEZONE
TZID:UTC
BEGIN:STANDARD
TZOFFSETFROM:+0000
TZOFFSETTO:+0000
TZNAME:UTC
DTSTART:20250101T000000
END:STANDARD
END:VTIMEZONE
BEGIN:VEVENT
DTSTART;VALUE=DATE:20260126
DTEND;VALUE=DATE:20260201
DTSTAMP:20260420T084759
CREATED:20260130T174411Z
LAST-MODIFIED:20260130T174411Z
UID:9104-1769385600-1769903999@tamanbukitinai.nadi.my
SUMMARY:DILEA - VIDEO ON DEMAND - REVISION VIDEO SESI 26
DESCRIPTION:
URL:https://tamanbukitinai.nadi.my/event/dilea-video-on-demand-revision-video-sesi-26/
END:VEVENT
BEGIN:VEVENT
DTSTART;TZID=UTC:20260131T020000
DTEND;TZID=UTC:20260131T150000
DTSTAMP:20260420T084759
CREATED:20260130T175135Z
LAST-MODIFIED:20260130T175135Z
UID:9122-1769824800-1769871600@tamanbukitinai.nadi.my
SUMMARY:TINY TECHIES - Micro:bit & Robotik
DESCRIPTION:
URL:https://tamanbukitinai.nadi.my/event/tiny-techies-microbit-robotik/
END:VEVENT
BEGIN:VEVENT
DTSTART;TZID=UTC:20260131T090000
DTEND;TZID=UTC:20260131T130000
DTSTAMP:20260420T084759
CREATED:20260130T173933Z
LAST-MODIFIED:20260130T173933Z
UID:9100-1769850000-1769864400@tamanbukitinai.nadi.my
SUMMARY:E-SUKAN - WEBINAR NADI E-SUKAN – CHARACTER DESIGN
DESCRIPTION:
URL:https://tamanbukitinai.nadi.my/event/e-sukan-webinar-nadi-e-sukan-character-design/
END:VEVENT
BEGIN:VEVENT
DTSTART;TZID=UTC:20260131T143000
DTEND;TZID=UTC:20260131T163000
DTSTAMP:20260420T084759
CREATED:20260130T174645Z
LAST-MODIFIED:20260130T174645Z
UID:9108-1769869800-1769877000@tamanbukitinai.nadi.my
SUMMARY:DILEA - WEBINAR BERKALA BAHASA INGGERIS – EDISI 7
DESCRIPTION:
URL:https://tamanbukitinai.nadi.my/event/dilea-webinar-berkala-bahasa-inggeris-edisi-7/
END:VEVENT
BEGIN:VEVENT
DTSTART;TZID=UTC:20260131T150000
DTEND;TZID=UTC:20260131T160000
DTSTAMP:20260420T084759
CREATED:20260130T175209Z
LAST-MODIFIED:20260130T175209Z
UID:9124-1769871600-1769875200@tamanbukitinai.nadi.my
SUMMARY:TINY TECHIES - Python\, HTML & SQL
DESCRIPTION:
URL:https://tamanbukitinai.nadi.my/event/tiny-techies-python-html-sql/
END:VEVENT
END:VCALENDAR