BEGIN:VCALENDAR
VERSION:2.0
PRODID:-//NADI Taman Bukit Inai - ECPv6.15.13.1//NONSGML v1.0//EN
CALSCALE:GREGORIAN
METHOD:PUBLISH
X-WR-CALNAME:NADI Taman Bukit Inai
X-ORIGINAL-URL:https://tamanbukitinai.nadi.my
X-WR-CALDESC:Events for NADI Taman Bukit Inai
REFRESH-INTERVAL;VALUE=DURATION:PT1H
X-Robots-Tag:noindex
X-PUBLISHED-TTL:PT1H
BEGIN:VTIMEZONE
TZID:UTC
BEGIN:STANDARD
TZOFFSETFROM:+0000
TZOFFSETTO:+0000
TZNAME:UTC
DTSTART:20250101T000000
END:STANDARD
END:VTIMEZONE
BEGIN:VEVENT
DTSTART;VALUE=DATE:20260119
DTEND;VALUE=DATE:20260126
DTSTAMP:20260420T084800
CREATED:20260123T191510Z
LAST-MODIFIED:20260123T191510Z
UID:9012-1768780800-1769385599@tamanbukitinai.nadi.my
SUMMARY:REVISION VIDEO SESI 25
DESCRIPTION:
URL:https://tamanbukitinai.nadi.my/event/revision-video-sesi-25/
END:VEVENT
BEGIN:VEVENT
DTSTART;TZID=UTC:20260120T100000
DTEND;TZID=UTC:20260120T110000
DTSTAMP:20260420T084800
CREATED:20260121T230044Z
LAST-MODIFIED:20260121T230044Z
UID:9002-1768903200-1768906800@tamanbukitinai.nadi.my
SUMMARY:EKELAS USAHAWAN - STRATEGI PEMASARAN DIGITAL
DESCRIPTION:
URL:https://tamanbukitinai.nadi.my/event/ekelas-usahawan-strategi-pemasaran-digital-4/
END:VEVENT
BEGIN:VEVENT
DTSTART;TZID=UTC:20260120T103000
DTEND;TZID=UTC:20260120T113000
DTSTAMP:20260420T084800
CREATED:20260123T191727Z
LAST-MODIFIED:20260123T191727Z
UID:9016-1768905000-1768908600@tamanbukitinai.nadi.my
SUMMARY:WELLBEING - WEBINAR KANSER SERVIK : KENAPA WANTA MALAYSIA TAK BUAT SARINGAN?
DESCRIPTION:
URL:https://tamanbukitinai.nadi.my/event/wellbeing-webinar-kanser-servik-kenapa-wanta-malaysia-tak-buat-saringan/
END:VEVENT
BEGIN:VEVENT
DTSTART;TZID=UTC:20260120T150000
DTEND;TZID=UTC:20260120T163000
DTSTAMP:20260420T084800
CREATED:20260123T194019Z
LAST-MODIFIED:20260123T194019Z
UID:9036-1768921200-1768926600@tamanbukitinai.nadi.my
SUMMARY:MAHIR - JAHIT MODUL 2
DESCRIPTION:
URL:https://tamanbukitinai.nadi.my/event/mahir-jahit-modul-2-3/
END:VEVENT
BEGIN:VEVENT
DTSTART;TZID=UTC:20260120T153000
DTEND;TZID=UTC:20260120T163000
DTSTAMP:20260420T084800
CREATED:20260123T191601Z
LAST-MODIFIED:20260123T191601Z
UID:9014-1768923000-1768926600@tamanbukitinai.nadi.my
SUMMARY:DILEA - OPEN TUITION BAHASA INGGERIS
DESCRIPTION:
URL:https://tamanbukitinai.nadi.my/event/dilea-open-tuition-bahasa-inggeris-6/
END:VEVENT
END:VCALENDAR