BEGIN:VCALENDAR
VERSION:2.0
PRODID:-//NADI Taman Bukit Inai - ECPv6.15.13.1//NONSGML v1.0//EN
CALSCALE:GREGORIAN
METHOD:PUBLISH
X-WR-CALNAME:NADI Taman Bukit Inai
X-ORIGINAL-URL:https://tamanbukitinai.nadi.my
X-WR-CALDESC:Events for NADI Taman Bukit Inai
REFRESH-INTERVAL;VALUE=DURATION:PT1H
X-Robots-Tag:noindex
X-PUBLISHED-TTL:PT1H
BEGIN:VTIMEZONE
TZID:UTC
BEGIN:STANDARD
TZOFFSETFROM:+0000
TZOFFSETTO:+0000
TZNAME:UTC
DTSTART:20250101T000000
END:STANDARD
END:VTIMEZONE
BEGIN:VEVENT
DTSTART;VALUE=DATE:20260105
DTEND;VALUE=DATE:20260112
DTSTAMP:20260420T050244
CREATED:20260106T224939Z
LAST-MODIFIED:20260106T224939Z
UID:8902-1767571200-1768175999@tamanbukitinai.nadi.my
SUMMARY:DILEA - ENGLISH PROFIENCY LESSON 22
DESCRIPTION:
URL:https://tamanbukitinai.nadi.my/event/dilea-english-profiency-lesson-22/
END:VEVENT
BEGIN:VEVENT
DTSTART;VALUE=DATE:20260105
DTEND;VALUE=DATE:20260112
DTSTAMP:20260420T050244
CREATED:20260106T225311Z
LAST-MODIFIED:20260106T225311Z
UID:8912-1767571200-1768175999@tamanbukitinai.nadi.my
SUMMARY:DILEA - VOD REVISION VIDEO 23
DESCRIPTION:
URL:https://tamanbukitinai.nadi.my/event/dilea-vod-revision-video-23/
END:VEVENT
BEGIN:VEVENT
DTSTART;VALUE=DATE:20260109
DTEND;VALUE=DATE:20260112
DTSTAMP:20260420T050244
CREATED:20260106T225834Z
LAST-MODIFIED:20260106T225834Z
UID:8922-1767916800-1768175999@tamanbukitinai.nadi.my
SUMMARY:E-SPORT - AWARENESS CLASS
DESCRIPTION:
URL:https://tamanbukitinai.nadi.my/event/e-sport-awareness-class/
END:VEVENT
BEGIN:VEVENT
DTSTART;TZID=UTC:20260111T143000
DTEND;TZID=UTC:20260111T163000
DTSTAMP:20260420T050244
CREATED:20260106T230125Z
LAST-MODIFIED:20260106T230125Z
UID:8924-1768141800-1768149000@tamanbukitinai.nadi.my
SUMMARY:DILEA - GUIDANCE TUITION BM & BI
DESCRIPTION:
URL:https://tamanbukitinai.nadi.my/event/dilea-guidance-tuition-bm-bi/
END:VEVENT
END:VCALENDAR