BEGIN:VCALENDAR
VERSION:2.0
PRODID:-//NADI Taman Bukit Inai - ECPv6.15.13.1//NONSGML v1.0//EN
CALSCALE:GREGORIAN
METHOD:PUBLISH
X-WR-CALNAME:NADI Taman Bukit Inai
X-ORIGINAL-URL:https://tamanbukitinai.nadi.my
X-WR-CALDESC:Events for NADI Taman Bukit Inai
REFRESH-INTERVAL;VALUE=DURATION:PT1H
X-Robots-Tag:noindex
X-PUBLISHED-TTL:PT1H
BEGIN:VTIMEZONE
TZID:UTC
BEGIN:STANDARD
TZOFFSETFROM:+0000
TZOFFSETTO:+0000
TZNAME:UTC
DTSTART:20250101T000000
END:STANDARD
END:VTIMEZONE
BEGIN:VEVENT
DTSTART;VALUE=DATE:20260105
DTEND;VALUE=DATE:20260112
DTSTAMP:20260420T084758
CREATED:20260106T224939Z
LAST-MODIFIED:20260106T224939Z
UID:8902-1767571200-1768175999@tamanbukitinai.nadi.my
SUMMARY:DILEA - ENGLISH PROFIENCY LESSON 22
DESCRIPTION:
URL:https://tamanbukitinai.nadi.my/event/dilea-english-profiency-lesson-22/
END:VEVENT
BEGIN:VEVENT
DTSTART;VALUE=DATE:20260105
DTEND;VALUE=DATE:20260112
DTSTAMP:20260420T084758
CREATED:20260106T225311Z
LAST-MODIFIED:20260106T225311Z
UID:8912-1767571200-1768175999@tamanbukitinai.nadi.my
SUMMARY:DILEA - VOD REVISION VIDEO 23
DESCRIPTION:
URL:https://tamanbukitinai.nadi.my/event/dilea-vod-revision-video-23/
END:VEVENT
BEGIN:VEVENT
DTSTART;VALUE=DATE:20260109
DTEND;VALUE=DATE:20260112
DTSTAMP:20260420T084758
CREATED:20260106T225834Z
LAST-MODIFIED:20260106T225834Z
UID:8922-1767916800-1768175999@tamanbukitinai.nadi.my
SUMMARY:E-SPORT - AWARENESS CLASS
DESCRIPTION:
URL:https://tamanbukitinai.nadi.my/event/e-sport-awareness-class/
END:VEVENT
BEGIN:VEVENT
DTSTART;VALUE=DATE:20260110
DTEND;VALUE=DATE:20260111
DTSTAMP:20260420T084758
CREATED:20260106T235346Z
LAST-MODIFIED:20260106T235346Z
UID:8934-1768003200-1768089599@tamanbukitinai.nadi.my
SUMMARY:WELLBEING - PHY-WELL : TEAM DANCE
DESCRIPTION:
URL:https://tamanbukitinai.nadi.my/event/wellbeing-phy-well-team-dance/
END:VEVENT
BEGIN:VEVENT
DTSTART;TZID=UTC:20260110T100000
DTEND;TZID=UTC:20260110T110000
DTSTAMP:20260420T084758
CREATED:20260106T235430Z
LAST-MODIFIED:20260106T235430Z
UID:8936-1768039200-1768042800@tamanbukitinai.nadi.my
SUMMARY:KIDVENTURE - WEBINAR : BUSINESS IDEA & MINI BUSINESS PLAN 1
DESCRIPTION:
URL:https://tamanbukitinai.nadi.my/event/kidventure-webinar-business-idea-mini-business-plan-1/
END:VEVENT
BEGIN:VEVENT
DTSTART;TZID=UTC:20260110T100000
DTEND;TZID=UTC:20260110T113000
DTSTAMP:20260420T084758
CREATED:20260106T235259Z
LAST-MODIFIED:20260106T235259Z
UID:8932-1768039200-1768044600@tamanbukitinai.nadi.my
SUMMARY:MAHIR - FORUM MAHIR BERSAMA KOMUNITI (TERBUKA)
DESCRIPTION:
URL:https://tamanbukitinai.nadi.my/event/mahir-forum-mahir-bersama-komuniti-terbuka/
END:VEVENT
BEGIN:VEVENT
DTSTART;TZID=UTC:20260110T143000
DTEND;TZID=UTC:20260110T163000
DTSTAMP:20260420T084758
CREATED:20260106T230255Z
LAST-MODIFIED:20260106T230255Z
UID:8926-1768055400-1768062600@tamanbukitinai.nadi.my
SUMMARY:DILEA - GUIDANCE TUITION SEJ & MT
DESCRIPTION:
URL:https://tamanbukitinai.nadi.my/event/dilea-guidance-tuition-sej-mt/
END:VEVENT
END:VCALENDAR