BEGIN:VCALENDAR
VERSION:2.0
PRODID:-//NADI Taman Bukit Inai - ECPv6.15.13.1//NONSGML v1.0//EN
CALSCALE:GREGORIAN
METHOD:PUBLISH
X-ORIGINAL-URL:https://tamanbukitinai.nadi.my
X-WR-CALDESC:Events for NADI Taman Bukit Inai
REFRESH-INTERVAL;VALUE=DURATION:PT1H
X-Robots-Tag:noindex
X-PUBLISHED-TTL:PT1H
BEGIN:VTIMEZONE
TZID:UTC
BEGIN:STANDARD
TZOFFSETFROM:+0000
TZOFFSETTO:+0000
TZNAME:UTC
DTSTART:20250101T000000
END:STANDARD
END:VTIMEZONE
BEGIN:VEVENT
DTSTART;VALUE=DATE:20260101
DTEND;VALUE=DATE:20260102
DTSTAMP:20260420T040159
CREATED:20260106T225016Z
LAST-MODIFIED:20260106T225016Z
UID:8904-1767225600-1767311999@tamanbukitinai.nadi.my
SUMMARY:WELLBEING - HEALTIP TIPS: CARA SELAMATKAN MANGSA LEMAS
DESCRIPTION:
URL:https://tamanbukitinai.nadi.my/event/wellbeing-healtip-tips-cara-selamatkan-mangsa-lemas/
END:VEVENT
END:VCALENDAR