BEGIN:VCALENDAR
VERSION:2.0
PRODID:-//NADI Taman Bukit Inai - ECPv6.15.13.1//NONSGML v1.0//EN
CALSCALE:GREGORIAN
METHOD:PUBLISH
X-WR-CALNAME:NADI Taman Bukit Inai
X-ORIGINAL-URL:https://tamanbukitinai.nadi.my
X-WR-CALDESC:Events for NADI Taman Bukit Inai
REFRESH-INTERVAL;VALUE=DURATION:PT1H
X-Robots-Tag:noindex
X-PUBLISHED-TTL:PT1H
BEGIN:VTIMEZONE
TZID:UTC
BEGIN:STANDARD
TZOFFSETFROM:+0000
TZOFFSETTO:+0000
TZNAME:UTC
DTSTART:20240101T000000
END:STANDARD
END:VTIMEZONE
BEGIN:VEVENT
DTSTART;VALUE=DATE:20251222
DTEND;VALUE=DATE:20251230
DTSTAMP:20260420T085809
CREATED:20251226T181251Z
LAST-MODIFIED:20251226T181631Z
UID:8851-1766361600-1767052799@tamanbukitinai.nadi.my
SUMMARY:CYBERSECURITY - SIRI EDUSIBER @ NADI
DESCRIPTION:
URL:https://tamanbukitinai.nadi.my/event/cybersecurity-siri-edusiber-nadi/
END:VEVENT
BEGIN:VEVENT
DTSTART;VALUE=DATE:20251222
DTEND;VALUE=DATE:20251230
DTSTAMP:20260420T085809
CREATED:20251226T181319Z
LAST-MODIFIED:20251226T181648Z
UID:8853-1766361600-1767052799@tamanbukitinai.nadi.my
SUMMARY:TINY TECHIES - KUIZ: TONTON\, BELAJAR\,BERMAIN!
DESCRIPTION:
URL:https://tamanbukitinai.nadi.my/event/tiny-techies-kuiz-tonton-belajarbermain/
END:VEVENT
BEGIN:VEVENT
DTSTART;VALUE=DATE:20251223
DTEND;VALUE=DATE:20251230
DTSTAMP:20260420T085809
CREATED:20251226T181457Z
LAST-MODIFIED:20251226T181457Z
UID:8857-1766448000-1767052799@tamanbukitinai.nadi.my
SUMMARY:MAHIR FOTO VIDEO COMPETITION
DESCRIPTION:
URL:https://tamanbukitinai.nadi.my/event/mahir-foto-video-competition/
END:VEVENT
END:VCALENDAR