BEGIN:VCALENDAR
VERSION:2.0
PRODID:-//NADI Taman Bukit Inai - ECPv6.15.13.1//NONSGML v1.0//EN
CALSCALE:GREGORIAN
METHOD:PUBLISH
X-WR-CALNAME:NADI Taman Bukit Inai
X-ORIGINAL-URL:https://tamanbukitinai.nadi.my
X-WR-CALDESC:Events for NADI Taman Bukit Inai
REFRESH-INTERVAL;VALUE=DURATION:PT1H
X-Robots-Tag:noindex
X-PUBLISHED-TTL:PT1H
BEGIN:VTIMEZONE
TZID:UTC
BEGIN:STANDARD
TZOFFSETFROM:+0000
TZOFFSETTO:+0000
TZNAME:UTC
DTSTART:20240101T000000
END:STANDARD
END:VTIMEZONE
BEGIN:VEVENT
DTSTART;VALUE=DATE:20251212
DTEND;VALUE=DATE:20251215
DTSTAMP:20260420T085754
CREATED:20251210T003619Z
LAST-MODIFIED:20251210T003619Z
UID:8816-1765497600-1765756799@tamanbukitinai.nadi.my
SUMMARY:ESPORT - AWARENESS CLASS : UNDANG DAN REGULASI E-SUKAN MALAYSIA
DESCRIPTION:
URL:https://tamanbukitinai.nadi.my/event/esport-awareness-class-undang-dan-regulasi-e-sukan-malaysia/
END:VEVENT
BEGIN:VEVENT
DTSTART;VALUE=DATE:20251213
DTEND;VALUE=DATE:20251214
DTSTAMP:20260420T085754
CREATED:20251210T014406Z
LAST-MODIFIED:20251210T014406Z
UID:8820-1765584000-1765670399@tamanbukitinai.nadi.my
SUMMARY:WELLBEING - PHYSICAL : GERAK SQUAD
DESCRIPTION:
URL:https://tamanbukitinai.nadi.my/event/wellbeing-physical-gerak-squad/
END:VEVENT
BEGIN:VEVENT
DTSTART;TZID=UTC:20251213T140000
DTEND;TZID=UTC:20251213T163000
DTSTAMP:20260420T085754
CREATED:20251210T003456Z
LAST-MODIFIED:20251210T003456Z
UID:8812-1765634400-1765643400@tamanbukitinai.nadi.my
SUMMARY:DILEA - GUIDANCE TUITION BM & BI (TING 5)
DESCRIPTION:
URL:https://tamanbukitinai.nadi.my/event/dilea-guidance-tuition-bm-bi-ting-5/
END:VEVENT
END:VCALENDAR