BEGIN:VCALENDAR
VERSION:2.0
PRODID:-//NADI Taman Bukit Inai - ECPv6.15.13.1//NONSGML v1.0//EN
CALSCALE:GREGORIAN
METHOD:PUBLISH
X-WR-CALNAME:NADI Taman Bukit Inai
X-ORIGINAL-URL:https://tamanbukitinai.nadi.my
X-WR-CALDESC:Events for NADI Taman Bukit Inai
REFRESH-INTERVAL;VALUE=DURATION:PT1H
X-Robots-Tag:noindex
X-PUBLISHED-TTL:PT1H
BEGIN:VTIMEZONE
TZID:UTC
BEGIN:STANDARD
TZOFFSETFROM:+0000
TZOFFSETTO:+0000
TZNAME:UTC
DTSTART:20240101T000000
END:STANDARD
END:VTIMEZONE
BEGIN:VEVENT
DTSTART;VALUE=DATE:20251122
DTEND;VALUE=DATE:20251211
DTSTAMP:20260420T085814
CREATED:20251125T000136Z
LAST-MODIFIED:20251125T000136Z
UID:8638-1763769600-1765411199@tamanbukitinai.nadi.my
SUMMARY:AWARENESS - KEMPEN INTERNET SELAMAT "AI DALAM MEDIA SOSIAL"
DESCRIPTION:
URL:https://tamanbukitinai.nadi.my/event/awareness-kempen-internet-selamat-ai-dalam-media-sosial/
END:VEVENT
BEGIN:VEVENT
DTSTART;VALUE=DATE:20251125
DTEND;VALUE=DATE:20251126
DTSTAMP:20260420T085814
CREATED:20251125T000602Z
LAST-MODIFIED:20251125T000602Z
UID:8642-1764028800-1764115199@tamanbukitinai.nadi.my
SUMMARY:NADIPRENEUR & EMPOWHER - COHORT 6 : PODCAST LINDUNGI PERNIAGAAN DENGAN KESELMATAN SIBER
DESCRIPTION:
URL:https://tamanbukitinai.nadi.my/event/nadipreneur-empowher-cohort-6-podcast-lindungi-perniagaan-dengan-keselmatan-siber/
END:VEVENT
BEGIN:VEVENT
DTSTART;TZID=UTC:20251125T103000
DTEND;TZID=UTC:20251125T113000
DTSTAMP:20260420T085814
CREATED:20251125T000507Z
LAST-MODIFIED:20251125T000507Z
UID:8640-1764066600-1764070200@tamanbukitinai.nadi.my
SUMMARY:WELLBEING - WEBINAR : BERAT NAIK\, RISIKO - FAHAMI OBESITI DAN CARA  KAWALNYA
DESCRIPTION:
URL:https://tamanbukitinai.nadi.my/event/wellbeing-webinar-berat-naik-risiko-fahami-obesiti-dan-cara-kawalnya/
END:VEVENT
END:VCALENDAR