BEGIN:VCALENDAR
VERSION:2.0
PRODID:-//NADI Taman Bukit Inai - ECPv6.15.13.1//NONSGML v1.0//EN
CALSCALE:GREGORIAN
METHOD:PUBLISH
X-WR-CALNAME:NADI Taman Bukit Inai
X-ORIGINAL-URL:https://tamanbukitinai.nadi.my
X-WR-CALDESC:Events for NADI Taman Bukit Inai
REFRESH-INTERVAL;VALUE=DURATION:PT1H
X-Robots-Tag:noindex
X-PUBLISHED-TTL:PT1H
BEGIN:VTIMEZONE
TZID:UTC
BEGIN:STANDARD
TZOFFSETFROM:+0000
TZOFFSETTO:+0000
TZNAME:UTC
DTSTART:20240101T000000
END:STANDARD
END:VTIMEZONE
BEGIN:VEVENT
DTSTART;VALUE=DATE:20251113
DTEND;VALUE=DATE:20251114
DTSTAMP:20260420T085759
CREATED:20251111T230827Z
LAST-MODIFIED:20251111T230827Z
UID:8467-1762992000-1763078399@tamanbukitinai.nadi.my
SUMMARY:WELLBEING - PODCAST : CYST BUAT SYA HILANG OVARI
DESCRIPTION:
URL:https://tamanbukitinai.nadi.my/event/wellbeing-podcast-cyst-buat-sya-hilang-ovari/
END:VEVENT
BEGIN:VEVENT
DTSTART;TZID=UTC:20251113T090000
DTEND;TZID=UTC:20251113T100000
DTSTAMP:20260420T085759
CREATED:20251111T225819Z
LAST-MODIFIED:20251111T225819Z
UID:8465-1763024400-1763028000@tamanbukitinai.nadi.my
SUMMARY:DILEA - OPEN TUITION SAINS
DESCRIPTION:
URL:https://tamanbukitinai.nadi.my/event/dilea-open-tuition-sains-4/
END:VEVENT
BEGIN:VEVENT
DTSTART;TZID=UTC:20251113T100000
DTEND;TZID=UTC:20251113T113000
DTSTAMP:20260420T085759
CREATED:20251111T234937Z
LAST-MODIFIED:20251111T234937Z
UID:8469-1763028000-1763033400@tamanbukitinai.nadi.my
SUMMARY:NADIPRENEUR & EMPOWHER- COHORT 6 : PENGURUSAN KEWANGAN & PERANCANGAN PERNIAGAAN
DESCRIPTION:
URL:https://tamanbukitinai.nadi.my/event/nadipreneur-empowher-cohort-6-pengurusan-kewangan-perancangan-perniagaan/
END:VEVENT
END:VCALENDAR