BEGIN:VCALENDAR
VERSION:2.0
PRODID:-//NADI Taman Bukit Inai - ECPv6.15.13.1//NONSGML v1.0//EN
CALSCALE:GREGORIAN
METHOD:PUBLISH
X-ORIGINAL-URL:https://tamanbukitinai.nadi.my
X-WR-CALDESC:Events for NADI Taman Bukit Inai
REFRESH-INTERVAL;VALUE=DURATION:PT1H
X-Robots-Tag:noindex
X-PUBLISHED-TTL:PT1H
BEGIN:VTIMEZONE
TZID:UTC
BEGIN:STANDARD
TZOFFSETFROM:+0000
TZOFFSETTO:+0000
TZNAME:UTC
DTSTART:20240101T000000
END:STANDARD
END:VTIMEZONE
BEGIN:VEVENT
DTSTART;VALUE=DATE:20251003
DTEND;VALUE=DATE:20251004
DTSTAMP:20260420T041544
CREATED:20251003T201916Z
LAST-MODIFIED:20251003T201916Z
UID:7956-1759449600-1759535999@tamanbukitinai.nadi.my
SUMMARY:NADI ESUKAN : KELAS KESEDARAN
DESCRIPTION:
URL:https://tamanbukitinai.nadi.my/event/nadi-esukan-kelas-kesedaran/
END:VEVENT
BEGIN:VEVENT
DTSTART;TZID=UTC:20251003T103000
DTEND;TZID=UTC:20251003T113000
DTSTAMP:20260420T041544
CREATED:20251003T201852Z
LAST-MODIFIED:20251003T201852Z
UID:7954-1759487400-1759491000@tamanbukitinai.nadi.my
SUMMARY:WELLBEING WEBINAR
DESCRIPTION:
URL:https://tamanbukitinai.nadi.my/event/wellbeing-webinar-35/
END:VEVENT
END:VCALENDAR