BEGIN:VCALENDAR
VERSION:2.0
PRODID:-//NADI Taman Bukit Inai - ECPv6.15.13.1//NONSGML v1.0//EN
CALSCALE:GREGORIAN
METHOD:PUBLISH
X-WR-CALNAME:NADI Taman Bukit Inai
X-ORIGINAL-URL:https://tamanbukitinai.nadi.my
X-WR-CALDESC:Events for NADI Taman Bukit Inai
REFRESH-INTERVAL;VALUE=DURATION:PT1H
X-Robots-Tag:noindex
X-PUBLISHED-TTL:PT1H
BEGIN:VTIMEZONE
TZID:UTC
BEGIN:STANDARD
TZOFFSETFROM:+0000
TZOFFSETTO:+0000
TZNAME:UTC
DTSTART:20240101T000000
END:STANDARD
END:VTIMEZONE
BEGIN:VEVENT
DTSTART;TZID=UTC:20250923T100000
DTEND;TZID=UTC:20250923T110000
DTSTAMP:20260420T071111
CREATED:20250919T012424Z
LAST-MODIFIED:20250919T012424Z
UID:7862-1758621600-1758625200@tamanbukitinai.nadi.my
SUMMARY:EKELASS USAHAWAN MODULE 3
DESCRIPTION:
URL:https://tamanbukitinai.nadi.my/event/ekelass-usahawan-module-3-4/
END:VEVENT
BEGIN:VEVENT
DTSTART;TZID=UTC:20250923T103000
DTEND;TZID=UTC:20250923T113000
DTSTAMP:20260420T071111
CREATED:20250919T012334Z
LAST-MODIFIED:20250919T012334Z
UID:7860-1758623400-1758627000@tamanbukitinai.nadi.my
SUMMARY:WELLBEING WEBINAR
DESCRIPTION:
URL:https://tamanbukitinai.nadi.my/event/wellbeing-webinar-32/
END:VEVENT
BEGIN:VEVENT
DTSTART;TZID=UTC:20250923T140000
DTEND;TZID=UTC:20250923T150000
DTSTAMP:20260420T071111
CREATED:20250919T012445Z
LAST-MODIFIED:20250919T012445Z
UID:7864-1758636000-1758639600@tamanbukitinai.nadi.my
SUMMARY:EKELASS USAHAWAN MODULE 4
DESCRIPTION:
URL:https://tamanbukitinai.nadi.my/event/ekelass-usahawan-module-4-4/
END:VEVENT
END:VCALENDAR