BEGIN:VCALENDAR
VERSION:2.0
PRODID:-//NADI Taman Bukit Inai - ECPv6.15.13.1//NONSGML v1.0//EN
CALSCALE:GREGORIAN
METHOD:PUBLISH
X-WR-CALNAME:NADI Taman Bukit Inai
X-ORIGINAL-URL:https://tamanbukitinai.nadi.my
X-WR-CALDESC:Events for NADI Taman Bukit Inai
REFRESH-INTERVAL;VALUE=DURATION:PT1H
X-Robots-Tag:noindex
X-PUBLISHED-TTL:PT1H
BEGIN:VTIMEZONE
TZID:UTC
BEGIN:STANDARD
TZOFFSETFROM:+0000
TZOFFSETTO:+0000
TZNAME:UTC
DTSTART:20240101T000000
END:STANDARD
END:VTIMEZONE
BEGIN:VEVENT
DTSTART;VALUE=DATE:20250918
DTEND;VALUE=DATE:20250919
DTSTAMP:20260420T071111
CREATED:20250909T011608Z
LAST-MODIFIED:20250909T011608Z
UID:7677-1758153600-1758239999@tamanbukitinai.nadi.my
SUMMARY:WELLBEING PODCAST
DESCRIPTION:
URL:https://tamanbukitinai.nadi.my/event/wellbeing-podcast-16/
END:VEVENT
BEGIN:VEVENT
DTSTART;VALUE=DATE:20250918
DTEND;VALUE=DATE:20250919
DTSTAMP:20260420T071111
CREATED:20250909T011706Z
LAST-MODIFIED:20250909T011706Z
UID:7681-1758153600-1758239999@tamanbukitinai.nadi.my
SUMMARY:EMPOWHER PODCAST
DESCRIPTION:
URL:https://tamanbukitinai.nadi.my/event/empowher-podcast/
END:VEVENT
BEGIN:VEVENT
DTSTART;TZID=UTC:20250918T093000
DTEND;TZID=UTC:20250918T103000
DTSTAMP:20260420T071111
CREATED:20250909T011645Z
LAST-MODIFIED:20250909T011645Z
UID:7679-1758187800-1758191400@tamanbukitinai.nadi.my
SUMMARY:DILEA OPEN TUTION BAHASA MELAYU
DESCRIPTION:
URL:https://tamanbukitinai.nadi.my/event/dilea-open-tution-bahasa-melayu/
END:VEVENT
BEGIN:VEVENT
DTSTART;TZID=UTC:20250918T150000
DTEND;TZID=UTC:20250918T163000
DTSTAMP:20260420T071111
CREATED:20250909T011753Z
LAST-MODIFIED:20250909T011753Z
UID:7683-1758207600-1758213000@tamanbukitinai.nadi.my
SUMMARY:CYBERSECURITY - WEBINAR
DESCRIPTION:
URL:https://tamanbukitinai.nadi.my/event/cybersecurity-webinar-2/
END:VEVENT
END:VCALENDAR