BEGIN:VCALENDAR
VERSION:2.0
PRODID:-//NADI Taman Bukit Inai - ECPv6.15.13.1//NONSGML v1.0//EN
CALSCALE:GREGORIAN
METHOD:PUBLISH
X-WR-CALNAME:NADI Taman Bukit Inai
X-ORIGINAL-URL:https://tamanbukitinai.nadi.my
X-WR-CALDESC:Events for NADI Taman Bukit Inai
REFRESH-INTERVAL;VALUE=DURATION:PT1H
X-Robots-Tag:noindex
X-PUBLISHED-TTL:PT1H
BEGIN:VTIMEZONE
TZID:UTC
BEGIN:STANDARD
TZOFFSETFROM:+0000
TZOFFSETTO:+0000
TZNAME:UTC
DTSTART:20240101T000000
END:STANDARD
END:VTIMEZONE
BEGIN:VEVENT
DTSTART;VALUE=DATE:20250910
DTEND;VALUE=DATE:20250911
DTSTAMP:20260420T071112
CREATED:20250909T004007Z
LAST-MODIFIED:20250909T004007Z
UID:7631-1757462400-1757548799@tamanbukitinai.nadi.my
SUMMARY:HEALTH TIPS
DESCRIPTION:
URL:https://tamanbukitinai.nadi.my/event/health-tips-13/
END:VEVENT
BEGIN:VEVENT
DTSTART;VALUE=DATE:20250910
DTEND;VALUE=DATE:20250911
DTSTAMP:20260420T071112
CREATED:20250909T004159Z
LAST-MODIFIED:20250909T004159Z
UID:7639-1757462400-1757548799@tamanbukitinai.nadi.my
SUMMARY:WELLBEING PODCAST
DESCRIPTION:
URL:https://tamanbukitinai.nadi.my/event/wellbeing-podcast-15/
END:VEVENT
BEGIN:VEVENT
DTSTART;TZID=UTC:20250910T093000
DTEND;TZID=UTC:20250910T110000
DTSTAMP:20260420T071112
CREATED:20250909T004029Z
LAST-MODIFIED:20250909T004029Z
UID:7633-1757496600-1757502000@tamanbukitinai.nadi.my
SUMMARY:MAHIR MASAK
DESCRIPTION:
URL:https://tamanbukitinai.nadi.my/event/mahir-masak-4/
END:VEVENT
BEGIN:VEVENT
DTSTART;TZID=UTC:20250910T150000
DTEND;TZID=UTC:20250910T163000
DTSTAMP:20260420T071112
CREATED:20250909T004056Z
LAST-MODIFIED:20250909T004056Z
UID:7635-1757516400-1757521800@tamanbukitinai.nadi.my
SUMMARY:MAHIR JAHIT
DESCRIPTION:
URL:https://tamanbukitinai.nadi.my/event/mahir-jahit-8/
END:VEVENT
BEGIN:VEVENT
DTSTART;TZID=UTC:20250910T150000
DTEND;TZID=UTC:20250910T163000
DTSTAMP:20260420T071112
CREATED:20250909T004116Z
LAST-MODIFIED:20250909T004116Z
UID:7637-1757516400-1757521800@tamanbukitinai.nadi.my
SUMMARY:MAHIR FOTO
DESCRIPTION:
URL:https://tamanbukitinai.nadi.my/event/mahir-foto-7/
END:VEVENT
END:VCALENDAR